BEGIN:VCALENDAR
VERSION:2.0
PRODID:-//Swim England North West - ECPv6.15.17.1//NONSGML v1.0//EN
CALSCALE:GREGORIAN
METHOD:PUBLISH
X-WR-CALNAME:Swim England North West
X-ORIGINAL-URL:https://swimnorthwest.org
X-WR-CALDESC:Events for Swim England North West
REFRESH-INTERVAL;VALUE=DURATION:PT1H
X-Robots-Tag:noindex
X-PUBLISHED-TTL:PT1H
BEGIN:VTIMEZONE
TZID:Europe/London
BEGIN:DAYLIGHT
TZOFFSETFROM:+0000
TZOFFSETTO:+0100
TZNAME:BST
DTSTART:20230326T010000
END:DAYLIGHT
BEGIN:STANDARD
TZOFFSETFROM:+0100
TZOFFSETTO:+0000
TZNAME:GMT
DTSTART:20231029T010000
END:STANDARD
BEGIN:DAYLIGHT
TZOFFSETFROM:+0000
TZOFFSETTO:+0100
TZNAME:BST
DTSTART:20240331T010000
END:DAYLIGHT
BEGIN:STANDARD
TZOFFSETFROM:+0100
TZOFFSETTO:+0000
TZNAME:GMT
DTSTART:20241027T010000
END:STANDARD
BEGIN:DAYLIGHT
TZOFFSETFROM:+0000
TZOFFSETTO:+0100
TZNAME:BST
DTSTART:20250330T010000
END:DAYLIGHT
BEGIN:STANDARD
TZOFFSETFROM:+0100
TZOFFSETTO:+0000
TZNAME:GMT
DTSTART:20251026T010000
END:STANDARD
END:VTIMEZONE
BEGIN:VEVENT
DTSTART;TZID=Europe/London:20240629T130000
DTEND;TZID=Europe/London:20240629T170000
DTSTAMP:20260423T060829
CREATED:20240415T121140Z
LAST-MODIFIED:20240626T084933Z
UID:10002670-1719666000-1719680400@swimnorthwest.org
SUMMARY:SENW Water Polo Club Table Officials Course
DESCRIPTION:Swim England North West are pleased to announce a Water Polo Club Table Officials Course which will take place on Saturday 29th June 2024 at Liverpool Aquatics Centre. \nThe Club Table Official is the lowest grade of qualification aimed at beginners or those who would like to volunteer at a club level. It provides a ‘proof’ that an official knows what to do for each role properly. \nTimetable for Day\n12:45 Registration \n13:00 Theory \n15:00 Practical \n17:00 Close \n  \nPlease click here for more information on becoming a water polo table official. \nBefore attending the course\, please register for the free resource aimed at anyone with an interest in Water Polo and officiating has been launched by Swim England\, please click here. \n  \nPre-Requisites\nIndividuals must be a minimum of 14 years old on the day of the course. \nIndividuals will be required to bring their own refreshments. \n  \nSENW Terms and Conditions \n  \nDeadline: 9am\, Wednesday 26th June 2024. \n  \nPersonal belongings remain the responsibility of the individual and are taken into venues at the individuals own risk. Neither Swim England North West nor the venue will be responsible for the loss of or damage to any such belongings. Individuals are advised to use lockers where available.
URL:https://swimnorthwest.org/event-course/senw-water-polo-club-table-officials-course/
LOCATION:Liverpool Aquatics Centre\, Liverpool Aquatics Centre\, Liverpool\, L15 4LE\, United Kingdom
CATEGORIES:Coaching/Teaching CPDs,Courses,Volunteer Courses,Volunteer Training Courses,Water Polo Courses
GEO:53.3981146;-2.9254693
X-APPLE-STRUCTURED-LOCATION;VALUE=URI;X-ADDRESS=Liverpool Aquatics Centre Liverpool Aquatics Centre Liverpool L15 4LE United Kingdom;X-APPLE-RADIUS=500;X-TITLE=Liverpool Aquatics Centre:geo:-2.9254693,53.3981146
END:VEVENT
END:VCALENDAR