BEGIN:VCALENDAR
VERSION:2.0
PRODID:-//Swim England North West - ECPv6.15.17.1//NONSGML v1.0//EN
CALSCALE:GREGORIAN
METHOD:PUBLISH
X-WR-CALNAME:Swim England North West
X-ORIGINAL-URL:https://swimnorthwest.org
X-WR-CALDESC:Events for Swim England North West
REFRESH-INTERVAL;VALUE=DURATION:PT1H
X-Robots-Tag:noindex
X-PUBLISHED-TTL:PT1H
BEGIN:VTIMEZONE
TZID:Europe/London
BEGIN:DAYLIGHT
TZOFFSETFROM:+0000
TZOFFSETTO:+0100
TZNAME:BST
DTSTART:20240331T010000
END:DAYLIGHT
BEGIN:STANDARD
TZOFFSETFROM:+0100
TZOFFSETTO:+0000
TZNAME:GMT
DTSTART:20241027T010000
END:STANDARD
BEGIN:DAYLIGHT
TZOFFSETFROM:+0000
TZOFFSETTO:+0100
TZNAME:BST
DTSTART:20250330T010000
END:DAYLIGHT
BEGIN:STANDARD
TZOFFSETFROM:+0100
TZOFFSETTO:+0000
TZNAME:GMT
DTSTART:20251026T010000
END:STANDARD
BEGIN:DAYLIGHT
TZOFFSETFROM:+0000
TZOFFSETTO:+0100
TZNAME:BST
DTSTART:20260329T010000
END:DAYLIGHT
BEGIN:STANDARD
TZOFFSETFROM:+0100
TZOFFSETTO:+0000
TZNAME:GMT
DTSTART:20261025T010000
END:STANDARD
END:VTIMEZONE
BEGIN:VEVENT
DTSTART;TZID=Europe/London:20250311T180000
DTEND;TZID=Europe/London:20250311T210000
DTSTAMP:20260420T044401
CREATED:20250203T135241Z
LAST-MODIFIED:20250306T151850Z
UID:10002812-1741716000-1741726800@swimnorthwest.org
SUMMARY:Swim England Safeguarding (Online Classroom) - Fully booked
DESCRIPTION:This CPD will be delivered online as a webinar. \nA webinar is an interactive online seminar that is led by the tutor and allows participants in different locations to be guided through the course content\, hear the presenter\, ask questions\, and be involved in group discussions. \nAll our webinars are hosted on Zoom. \nThis workshop will raise your awareness of signs of abuse and give you the tools and confidence you need to deal with any issues sensitively\, appropriately\, and effectively should the need ever arise. \nWho is the course designed for? \nAnyone working with children both in a swimming teaching and coaching environment. \nCompleting this course will support your club Swim England’s Stronger Affiliation process. \nCourse content \nSwim England’s Safeguarding CPD is bespoke and reflects the needs of a pool environment. The course will help you to understand: \n\nWhat child safeguarding and child protection means\nKey government legislation in relation to safeguarding and protecting children\nSwim England’s safeguarding policies and procedures\nThe types\, signs\, and symptoms of child abuse\nHow to respond to possible signs of child abuse and take appropriate action if concerns arise.\n\n\nPrerequisites\nMust be a member of Swim England to be able to attend. \nYou must be at least 16 years of age at the start of the course. \nCost: £20.00 (non-refundable). \nIf for any reason the course has to be cancelled by the Regional Office then a refund or alternative course will be offered. \nSENW Terms and Conditions \nClosing Date: 9am\, Monday 10th March 2025 \nSwim England North West Limited uses Zoom Communications Inc to provide video conferencing technology to deliver this service\, the session may be recorded for training and quality purposes.
URL:https://swimnorthwest.org/event-course/swim-england-safeguarding-online-classroom-11/
LOCATION:Online
CATEGORIES:Coach Courses,Coaching/Teaching CPDs,Courses,Diving Courses,Masters Courses,Open Water Courses,Para Swimming Courses,Swimming Courses,Synchronised Swimming Courses,Volunteer Courses,Volunteer Training Courses,Water Polo Courses
END:VEVENT
BEGIN:VEVENT
DTSTART;TZID=Europe/London:20250314T180000
DTEND;TZID=Europe/London:20250314T210000
DTSTAMP:20260420T044401
CREATED:20250203T141159Z
LAST-MODIFIED:20250313T105602Z
UID:10002813-1741975200-1741986000@swimnorthwest.org
SUMMARY:SENW Team Manager 1 (Online) - Fully booked
DESCRIPTION:The Team Manager 1 Course is aimed at those who are starting out on their volunteering journey and focuses on single-day competitions or camps where there is no overnight stay. \nIt covers all aquatic disciplines and will be delivered via Zoom. \nParticipants will be guided through the course content\, be able to ask questions\, and get involved with the group discussions. \nThe course covers: \n\nEssential elements of team management from pre to post-event duties\nRelaying information in a concise manner and make quick decisions based upon the best interests of individuals and teams\nHow Swim England’s safeguarding policy and procedures work in a team management context\nManaging athletes during competitions including promoting positive behavior at the venue\nHow to support coaches\, athletes\, and parents\nAnd how to identify hazards and risk factors that have the potential to cause harm to athletes – and the risk assessment requirements associated with the role.\n\nAttendees must be a \n\nmember of the ASA to attend this course.\nbe over 18 years of age\n\nTo make sure there is a wide variation of experiences in the discussions there will be a maximum of 5 members from each club allowed to attend the course\, please check with your club before booking your place. \nIf for any reason the course has to be cancelled by the Regional Office then a refund or alternative course will be offered. \nSENW Terms and Conditions \nClosing Date: 9am\, Thursday 13th March 2025 \nSwim England North West Limited uses Zoom Communications Inc to provide video conferencing technology to deliver this service\, the session may be recorded for training and quality purposes.
URL:https://swimnorthwest.org/event-course/senw-team-manager-1-online-4/
LOCATION:Online
CATEGORIES:Coach Courses,Coaching/Teaching CPDs,Courses,Diving Courses,Masters Courses,Open Water Courses,Para Swimming Courses,Swimming Courses,Synchronised Swimming Courses,Volunteer Courses,Volunteer Training Courses,Water Polo Courses
END:VEVENT
BEGIN:VEVENT
DTSTART;TZID=Europe/London:20250321T180000
DTEND;TZID=Europe/London:20250321T210000
DTSTAMP:20260420T044401
CREATED:20250220T090928Z
LAST-MODIFIED:20250312T105738Z
UID:10002819-1742580000-1742590800@swimnorthwest.org
SUMMARY:Swim England Safeguarding in Aquatics (Online Classroom) - Fully booked
DESCRIPTION:This CPD will be delivered online as a webinar. \nA webinar is an interactive online seminar that is led by the tutor and allows participants in different locations to be guided through the course content\, hear the presenter\, ask questions\, and be involved in group discussions. \nAll our webinars are hosted on Zoom. \nThis workshop will raise your awareness of signs of abuse and give you the tools and confidence you need to deal with any issues sensitively\, appropriately\, and effectively should the need ever arise. \nWho is the course designed for? \nAnyone working with children both in a swimming teaching and coaching environment. \nCompleting this course will support your club Swim England’s Stronger Affiliation process. \nCourse content \nSwim England’s Safeguarding in Aquatics CPD is bespoke and reflects the needs of a pool environment. The course will help you to understand: \n\nWhat child safeguarding and child protection means\nKey government legislation in relation to safeguarding and protecting children\nSwim England’s safeguarding policies and procedures\nThe types\, signs\, and symptoms of child abuse\nHow to respond to possible signs of child abuse and take appropriate action if concerns arise.\n\n\nPrerequisites\nMust be a member of Swim England to be able to attend. \nYou must be at least 16 years of age at the start of the course. \nCost: £20.00 (non-refundable). \nIf for any reason the course has to be cancelled by the Regional Office then a refund or alternative course will be offered. \nSENW Terms and Conditions \nClosing Date: 9am\, Monday 17th March 2025 \nSwim England North West Limited uses Zoom Communications Inc to provide video conferencing technology to deliver this service\, the session may be recorded for training and quality purposes.
URL:https://swimnorthwest.org/event-course/swim-england-safeguarding-in-aquatics-online-classroom/
LOCATION:Online
CATEGORIES:Coach Courses,Coaching/Teaching CPDs,Courses,Diving Courses,Masters Courses,Open Water Courses,Para Swimming Courses,Swimming Courses,Synchronised Swimming Courses,Volunteer Courses,Volunteer Training Courses,Water Polo Courses
END:VEVENT
BEGIN:VEVENT
DTSTART;TZID=Europe/London:20250331T180000
DTEND;TZID=Europe/London:20250331T210000
DTSTAMP:20260420T044401
CREATED:20250120T153534Z
LAST-MODIFIED:20250326T125520Z
UID:10002807-1743444000-1743454800@swimnorthwest.org
SUMMARY:SENW Team Manager 2 (Online)
DESCRIPTION:Team Manager 2 online course aims to further enhance the knowledge gained when completing the Team Manager 1 course  – putting clubs in a better place ahead of events and competitions returning. \nThe Team Manager 2 courses are appropriate for all those who are working with a team or club in camps and competitions\, both domestically and internationally. \nThey cover all aquatic disciplines and will be delivered via Zoom. \nThe requirements in order to take part in the course are: \n\nMust hold a Swim England membership\nMust have an in date DBS check on membership record\nMust have an approved safeguarding certificate on membership record\nMust have completed the Team Manager 1 course\nMust identify as a team manager on the Club Personnel Report\nMust be 18 or older.\n\nCost: £20 (non-refundable).  If for any reason the course has to be cancelled by the Regional Office\, then a refund or alternative course will be offered. \nClosing Date: 9am\, Monday 31st March 2025 \nSENW Terms and Conditions \nSwim England North West Limited uses Zoom Communications Inc to provide video conferencing technology to deliver this service\, the session may be recorded for training and quality purposes.
URL:https://swimnorthwest.org/event-course/senw-team-manager-2-online/
LOCATION:Online
CATEGORIES:Coach Courses,Coaching/Teaching CPDs,Courses,Diving Courses,Masters Courses,Open Water Courses,Para Swimming Courses,Swimming Courses,Synchronised Swimming Courses,Volunteer Courses,Volunteer Training Courses,Water Polo Courses
END:VEVENT
END:VCALENDAR