BEGIN:VCALENDAR
VERSION:2.0
PRODID:-//Swim England North West - ECPv6.15.17.1//NONSGML v1.0//EN
CALSCALE:GREGORIAN
METHOD:PUBLISH
X-WR-CALNAME:Swim England North West
X-ORIGINAL-URL:https://swimnorthwest.org
X-WR-CALDESC:Events for Swim England North West
REFRESH-INTERVAL;VALUE=DURATION:PT1H
X-Robots-Tag:noindex
X-PUBLISHED-TTL:PT1H
BEGIN:VTIMEZONE
TZID:Europe/London
BEGIN:DAYLIGHT
TZOFFSETFROM:+0000
TZOFFSETTO:+0100
TZNAME:BST
DTSTART:20240331T010000
END:DAYLIGHT
BEGIN:STANDARD
TZOFFSETFROM:+0100
TZOFFSETTO:+0000
TZNAME:GMT
DTSTART:20241027T010000
END:STANDARD
BEGIN:DAYLIGHT
TZOFFSETFROM:+0000
TZOFFSETTO:+0100
TZNAME:BST
DTSTART:20250330T010000
END:DAYLIGHT
BEGIN:STANDARD
TZOFFSETFROM:+0100
TZOFFSETTO:+0000
TZNAME:GMT
DTSTART:20251026T010000
END:STANDARD
BEGIN:DAYLIGHT
TZOFFSETFROM:+0000
TZOFFSETTO:+0100
TZNAME:BST
DTSTART:20260329T010000
END:DAYLIGHT
BEGIN:STANDARD
TZOFFSETFROM:+0100
TZOFFSETTO:+0000
TZNAME:GMT
DTSTART:20261025T010000
END:STANDARD
END:VTIMEZONE
BEGIN:VEVENT
DTSTART;TZID=Europe/London:20250514T180000
DTEND;TZID=Europe/London:20250514T210000
DTSTAMP:20260420T062011
CREATED:20250211T093226Z
LAST-MODIFIED:20250501T094920Z
UID:10002816-1747245600-1747256400@swimnorthwest.org
SUMMARY:SE Welfare Officer Training (Time to Listen) online
DESCRIPTION:The Swim England Welfare Officer Training (Time to Listen) course is available to Club Welfare Officers (or assistant Welfare Officers space permitted) who must be over the age of 18. \nAttendees must have attended a Swim England Safeguarding course within the last 3 years. \nThe course will run for three hours\, breaks will be provided throughout. \nTechnical Requirements to Access the Online Classroom: \nThe online classroom is powered by Zoom. \nYou will need the following equipment: \n\nHeadset or a device with speakers\nDevice with a microphone\n\nAttendees must be a \n\nmember of Swim England to attend this course.\nbe over 18 years of age\n\nCost: £20.00 no refund will be offered for non attendance/cancellation 7 days or less prior to the course (please refer to terms and conditions for full details) \nIf for any reason the course has to be cancelled by the Regional Office then a refund or alternative course will be offered. \nSENW Terms and Conditions \nClosing Date: 9am\, Monday 12th May 2025.  \nSwim England North West Limited uses Zoom Communications Inc to provide video conferencing technology to deliver this service\, the session may be recorded for training and quality purposes.
URL:https://swimnorthwest.org/event-course/se-welfare-officer-training-time-to-listen-online/
LOCATION:Online
CATEGORIES:Coach Courses,Coaching/Teaching CPDs,Courses,Diving Courses,Masters Courses,Open Water Courses,Para Swimming Courses,Swimming Courses,Synchronised Swimming Courses,Volunteer Courses,Volunteer Training Courses,Water Polo Courses
END:VEVENT
BEGIN:VEVENT
DTSTART;TZID=Europe/London:20250516T180000
DTEND;TZID=Europe/London:20250516T210000
DTSTAMP:20260420T062011
CREATED:20250408T123842Z
LAST-MODIFIED:20250430T121038Z
UID:10002838-1747418400-1747429200@swimnorthwest.org
SUMMARY:Swim England Safeguarding (Online Classroom) - Fully booked
DESCRIPTION:This CPD will be delivered online as a webinar. \nA webinar is an interactive online seminar that is led by the tutor and allows participants in different locations to be guided through the course content\, hear the presenter\, ask questions\, and be involved in group discussions. \nAll our webinars are hosted on Zoom. \nThis workshop will raise your awareness of signs of abuse and give you the tools and confidence you need to deal with any issues sensitively\, appropriately\, and effectively should the need ever arise. \nWho is the course designed for? \nAnyone working with children both in a swimming teaching and coaching environment. \nCompleting this course will support your club Swim England’s Stronger Affiliation process. \nCourse content \nSwim England’s Safeguarding CPD is bespoke and reflects the needs of a pool environment. The course will help you to understand: \n\nWhat child safeguarding and child protection means\nKey government legislation in relation to safeguarding and protecting children\nSwim England’s safeguarding policies and procedures\nThe types\, signs\, and symptoms of child abuse\nHow to respond to possible signs of child abuse and take appropriate action if concerns arise.\n\n\nPrerequisites\nMust be a member of Swim England to be able to attend. \nYou must be at least 16 years of age at the start of the course. \nCost: £20.00 (non-refundable). \nIf for any reason the course has to be cancelled by the Regional Office then a refund or alternative course will be offered. \nSENW Terms and Conditions \nClosing Date: 9am\, Thursday 15th May 2025 \nSwim England North West Limited uses Zoom Communications Inc to provide video conferencing technology to deliver this service\, the session may be recorded for training and quality purposes.
URL:https://swimnorthwest.org/event-course/swim-england-safeguarding-online-classroom-15/
LOCATION:Online
CATEGORIES:Coach Courses,Coaching/Teaching CPDs,Courses,Diving Courses,Masters Courses,Open Water Courses,Para Swimming Courses,Swimming Courses,Synchronised Swimming Courses,Volunteer Courses,Volunteer Training Courses,Water Polo Courses
END:VEVENT
BEGIN:VEVENT
DTSTART;TZID=Europe/London:20250517T090000
DTEND;TZID=Europe/London:20250517T120000
DTSTAMP:20260420T062011
CREATED:20250408T125432Z
LAST-MODIFIED:20250430T120959Z
UID:10002839-1747472400-1747483200@swimnorthwest.org
SUMMARY:Swim England Safeguarding (Online Classroom) - Fully booked
DESCRIPTION:This CPD will be delivered online as a webinar. \nA webinar is an interactive online seminar that is led by the tutor and allows participants in different locations to be guided through the course content\, hear the presenter\, ask questions\, and be involved in group discussions. \nAll our webinars are hosted on Zoom. \nThis workshop will raise your awareness of signs of abuse and give you the tools and confidence you need to deal with any issues sensitively\, appropriately\, and effectively should the need ever arise. \nWho is the course designed for? \nAnyone working with children both in a swimming teaching and coaching environment. \nCompleting this course will support your club Swim England’s Stronger Affiliation process. \nCourse content \nSwim England’s Safeguarding CPD is bespoke and reflects the needs of a pool environment. The course will help you to understand: \n\nWhat child safeguarding and child protection means\nKey government legislation in relation to safeguarding and protecting children\nSwim England’s safeguarding policies and procedures\nThe types\, signs\, and symptoms of child abuse\nHow to respond to possible signs of child abuse and take appropriate action if concerns arise.\n\n\nPrerequisites\nMust be a member of Swim England to be able to attend. \nYou must be at least 16 years of age at the start of the course. \nCost: £20.00 (non-refundable). \nIf for any reason the course has to be cancelled by the Regional Office then a refund or alternative course will be offered. \nSENW Terms and Conditions \nClosing Date: 9am\, Thursday 15th May 2025 \nSwim England North West Limited uses Zoom Communications Inc to provide video conferencing technology to deliver this service\, the session may be recorded for training and quality purposes.
URL:https://swimnorthwest.org/event-course/swim-england-safeguarding-online-classroom-16/
LOCATION:Online
CATEGORIES:Coach Courses,Coaching/Teaching CPDs,Courses,Diving Courses,Masters Courses,Open Water Courses,Para Swimming Courses,Swimming Courses,Synchronised Swimming Courses,Volunteer Courses,Volunteer Training Courses,Water Polo Courses
END:VEVENT
END:VCALENDAR