BEGIN:VCALENDAR
VERSION:2.0
PRODID:-//Swim England North West - ECPv6.15.17.1//NONSGML v1.0//EN
CALSCALE:GREGORIAN
METHOD:PUBLISH
X-ORIGINAL-URL:https://swimnorthwest.org
X-WR-CALDESC:Events for Swim England North West
REFRESH-INTERVAL;VALUE=DURATION:PT1H
X-Robots-Tag:noindex
X-PUBLISHED-TTL:PT1H
BEGIN:VTIMEZONE
TZID:Europe/London
BEGIN:DAYLIGHT
TZOFFSETFROM:+0000
TZOFFSETTO:+0100
TZNAME:BST
DTSTART:20240331T010000
END:DAYLIGHT
BEGIN:STANDARD
TZOFFSETFROM:+0100
TZOFFSETTO:+0000
TZNAME:GMT
DTSTART:20241027T010000
END:STANDARD
BEGIN:DAYLIGHT
TZOFFSETFROM:+0000
TZOFFSETTO:+0100
TZNAME:BST
DTSTART:20250330T010000
END:DAYLIGHT
BEGIN:STANDARD
TZOFFSETFROM:+0100
TZOFFSETTO:+0000
TZNAME:GMT
DTSTART:20251026T010000
END:STANDARD
BEGIN:DAYLIGHT
TZOFFSETFROM:+0000
TZOFFSETTO:+0100
TZNAME:BST
DTSTART:20260329T010000
END:DAYLIGHT
BEGIN:STANDARD
TZOFFSETFROM:+0100
TZOFFSETTO:+0000
TZNAME:GMT
DTSTART:20261025T010000
END:STANDARD
END:VTIMEZONE
BEGIN:VEVENT
DTSTART;VALUE=DATE:20251211
DTEND;VALUE=DATE:20251215
DTSTAMP:20260422T224901
CREATED:20250623T102616Z
LAST-MODIFIED:20250623T102616Z
UID:10002875-1765411200-1765756799@swimnorthwest.org
SUMMARY:GoCardless Swim England National Winter Championships (25m) 2025
DESCRIPTION:This year’s GoCardless Swim England National Winter Championships (25m) 2025 will take place on the 11th to the 14th December 2025 at Ponds Forge\, Sheffield. \nFurther information can be found via the following link as and when it becomes available:  CLICK HERE \n  \n 
URL:https://swimnorthwest.org/event-course/gocardless-swim-england-national-winter-championships-25m-2025/
LOCATION:Ponds Forge\, Ponds Forge\, Sheffield\, S1 2BP\, United Kingdom
CATEGORIES:Events,Filter,Para Swimming Events,Regional and National Competitions,swimming,Swimming Events,Volunteers
GEO:53.3824467;-1.462747
X-APPLE-STRUCTURED-LOCATION;VALUE=URI;X-ADDRESS=Ponds Forge Ponds Forge Sheffield S1 2BP United Kingdom;X-APPLE-RADIUS=500;X-TITLE=Ponds Forge:geo:-1.462747,53.3824467
END:VEVENT
END:VCALENDAR