BEGIN:VCALENDAR
VERSION:2.0
PRODID:-//Swim England North West - ECPv6.15.17.1//NONSGML v1.0//EN
CALSCALE:GREGORIAN
METHOD:PUBLISH
X-WR-CALNAME:Swim England North West
X-ORIGINAL-URL:https://swimnorthwest.org
X-WR-CALDESC:Events for Swim England North West
REFRESH-INTERVAL;VALUE=DURATION:PT1H
X-Robots-Tag:noindex
X-PUBLISHED-TTL:PT1H
BEGIN:VTIMEZONE
TZID:Europe/London
BEGIN:DAYLIGHT
TZOFFSETFROM:+0000
TZOFFSETTO:+0100
TZNAME:BST
DTSTART:20250330T010000
END:DAYLIGHT
BEGIN:STANDARD
TZOFFSETFROM:+0100
TZOFFSETTO:+0000
TZNAME:GMT
DTSTART:20251026T010000
END:STANDARD
BEGIN:DAYLIGHT
TZOFFSETFROM:+0000
TZOFFSETTO:+0100
TZNAME:BST
DTSTART:20260329T010000
END:DAYLIGHT
BEGIN:STANDARD
TZOFFSETFROM:+0100
TZOFFSETTO:+0000
TZNAME:GMT
DTSTART:20261025T010000
END:STANDARD
BEGIN:DAYLIGHT
TZOFFSETFROM:+0000
TZOFFSETTO:+0100
TZNAME:BST
DTSTART:20270328T010000
END:DAYLIGHT
BEGIN:STANDARD
TZOFFSETFROM:+0100
TZOFFSETTO:+0000
TZNAME:GMT
DTSTART:20271031T010000
END:STANDARD
END:VTIMEZONE
BEGIN:VEVENT
DTSTART;VALUE=DATE:20260919
DTEND;VALUE=DATE:20260920
DTSTAMP:20260423T112500
CREATED:20260415T102046Z
LAST-MODIFIED:20260415T102046Z
UID:10002988-1789776000-1789862399@swimnorthwest.org
SUMMARY:Swim England North West Masters Regional Championships
DESCRIPTION:Further information to follow.
URL:https://swimnorthwest.org/event-course/swim-england-north-west-masters-regional-championships/
LOCATION:Blackpool\, United Kingdom\, Blackpool\, United Kingdom\, Blackpool\, United Kingdom
CATEGORIES:Master Events,Regional and National Competitions
END:VEVENT
END:VCALENDAR