BEGIN:VCALENDAR
VERSION:2.0
PRODID:-//Swim England North West - ECPv6.15.17.1//NONSGML v1.0//EN
CALSCALE:GREGORIAN
METHOD:PUBLISH
X-WR-CALNAME:Swim England North West
X-ORIGINAL-URL:https://swimnorthwest.org
X-WR-CALDESC:Events for Swim England North West
REFRESH-INTERVAL;VALUE=DURATION:PT1H
X-Robots-Tag:noindex
X-PUBLISHED-TTL:PT1H
BEGIN:VTIMEZONE
TZID:Europe/London
BEGIN:DAYLIGHT
TZOFFSETFROM:+0000
TZOFFSETTO:+0100
TZNAME:BST
DTSTART:20230326T010000
END:DAYLIGHT
BEGIN:STANDARD
TZOFFSETFROM:+0100
TZOFFSETTO:+0000
TZNAME:GMT
DTSTART:20231029T010000
END:STANDARD
BEGIN:DAYLIGHT
TZOFFSETFROM:+0000
TZOFFSETTO:+0100
TZNAME:BST
DTSTART:20240331T010000
END:DAYLIGHT
BEGIN:STANDARD
TZOFFSETFROM:+0100
TZOFFSETTO:+0000
TZNAME:GMT
DTSTART:20241027T010000
END:STANDARD
BEGIN:DAYLIGHT
TZOFFSETFROM:+0000
TZOFFSETTO:+0100
TZNAME:BST
DTSTART:20250330T010000
END:DAYLIGHT
BEGIN:STANDARD
TZOFFSETFROM:+0100
TZOFFSETTO:+0000
TZNAME:GMT
DTSTART:20251026T010000
END:STANDARD
BEGIN:DAYLIGHT
TZOFFSETFROM:+0000
TZOFFSETTO:+0100
TZNAME:BST
DTSTART:20260329T010000
END:DAYLIGHT
BEGIN:STANDARD
TZOFFSETFROM:+0100
TZOFFSETTO:+0000
TZNAME:GMT
DTSTART:20261025T010000
END:STANDARD
BEGIN:DAYLIGHT
TZOFFSETFROM:+0000
TZOFFSETTO:+0100
TZNAME:BST
DTSTART:20270328T010000
END:DAYLIGHT
BEGIN:STANDARD
TZOFFSETFROM:+0100
TZOFFSETTO:+0000
TZNAME:GMT
DTSTART:20271031T010000
END:STANDARD
END:VTIMEZONE
BEGIN:VEVENT
DTSTART;VALUE=DATE:20260301
DTEND;VALUE=DATE:20260303
DTSTAMP:20260420T112458
CREATED:20250725T125659Z
LAST-MODIFIED:20260228T153957Z
UID:10002881-1772323200-1772495999@swimnorthwest.org
SUMMARY:SENW Diving Skills & Age Group National Qualifier 2026
DESCRIPTION:SENW Diving Skills & Age Group National Qualifier Competition 2026\nSwim England North West Diving Management Group are pleased to announce the date for their SENW Diving Skills & Age Group National Qualifier Competition 2026 \nThe competition will take place on: Saturday 28th February & Sunday 1st March 2026 \n  \nVenue\nManchester Aquatics Centre \n2 Booth St East \nManchester \nM13 9SS \n  \nTime\nFrom 0900-1800hrs Saturday 28th February 2026 \nFrom **0800-1800hrs Sunday 1st March 2026 \n(Please note we have been able to secure an additional hour pool time on Sunday 1st March from 8am\, so the Competition Schedule/Training Information has changed as of 2/2/26) \n  \nEvent Entry Pack & Conditions\nSwim England North West Skills & Age Group National Qualifier Event 2026 – Entry Pack & Conditions can be found here – CLICK HERE \n\nAccepted Entries\nFull list of accepted entries for this event can be found here:  CLICK HERE \n\nCompetition Schedule and Training Information\nEvent Schedule and Training Information can be found here  (Please note change of day for Skills C ‘Open’ this event will now take place on Saturday instead of Sunday as originally planned) \nFollowing the additional hour pool time availability\, we now have an ‘open training’ session available on Sunday 1st March 2026 – see Competition Schedule. \nTraining is available on Friday 27th February 2026\, through ‘club block bookings’ only – see your club for more information on this. \n  \nPoolside Accreditation\nPoolside Accreditation passes for Coaches and Team Managers can be purchased here – CLICK HERE \n\nSpectators Tickets\nSpectators Tickets can be purchased prior to the event via the following link – CLICK HERE \nTickets will also be on sale on the day – card payments only (NO CASH) \n  \nEvent Merchandise\nEvent T-Shirts and Hoodies are available for this competition\, see Event Entry Pack and your club for further information. \n  \nLive Stream\nThis event is being live streamed – to access the Live Stream – CLICK HERE \n  \nLive Results\nLive results can be found on DiveRecorder – CLICK HERE \n  \nEntry deadline – 9am Monday 19th January 2026 – Entries Closed – Event FULL
URL:https://swimnorthwest.org/event-course/senw-diving-skills-age-group-national-qualifier-2026/
LOCATION:Manchester Aquatics Centre\, Manchester Aquatics Centre\, Manchester\, Greater Manchester\, M13 9SS\, United Kingdom
CATEGORIES:Diving Events,Events,Regional and National Competitions
ORGANIZER;CN="Swim England North West":MAILTO:swimnorthwest@swimming.org
GEO:53.4695414;-2.235493
X-APPLE-STRUCTURED-LOCATION;VALUE=URI;X-ADDRESS=Manchester Aquatics Centre Manchester Aquatics Centre Manchester Greater Manchester M13 9SS United Kingdom;X-APPLE-RADIUS=500;X-TITLE=Manchester Aquatics Centre:geo:-2.235493,53.4695414
END:VEVENT
BEGIN:VEVENT
DTSTART;VALUE=DATE:20260215
DTEND;VALUE=DATE:20260217
DTSTAMP:20260420T112458
CREATED:20251209T111232Z
LAST-MODIFIED:20260214T155402Z
UID:10002941-1771113600-1771286399@swimnorthwest.org
SUMMARY:SENW/SENE Multi Regional Artistic Swimming AG Comp & Jun/Sen Champs 2026
DESCRIPTION:Swim England North West Regional Artistic Swimming Management Group are delighted to announce that the 2026 SENW & SENE Multi Regional Artistic Age Group Competition and Junior/Senior Championships will be taking place on Saturday 14th & Sunday 15th February 2026. \nVenue:  Manchester Aquatics Centre\, 2 Booth Street East\, Manchester\, M13 9SS \nEvent Conditions\nEvent Conditions can be found here \nCompetition Programme\nCompetition Programme can be found here \nStart Time\n10am both days \nPoolside Accreditation\nPoolside Accreditation (Coaches/TM’s) can be purchased here: CLICK HERE \nSpectator Tickets\nSpectator Tickets are available to purchase online here – CLICK HERE \n  \n 
URL:https://swimnorthwest.org/event-course/senw-sene-multi-regional-artistic-swimming-ag-comp-jun-sen-champs-2026-2/
LOCATION:Manchester Aquatics Centre\, Manchester Aquatics Centre\, Manchester\, Greater Manchester\, M13 9SS\, United Kingdom
CATEGORIES:Events,Filter,Regional and National Competitions,Synchronised Swimming Events
ORGANIZER;CN="Swim England North West":MAILTO:swimnorthwest@swimming.org
GEO:53.4695414;-2.235493
X-APPLE-STRUCTURED-LOCATION;VALUE=URI;X-ADDRESS=Manchester Aquatics Centre Manchester Aquatics Centre Manchester Greater Manchester M13 9SS United Kingdom;X-APPLE-RADIUS=500;X-TITLE=Manchester Aquatics Centre:geo:-2.235493,53.4695414
END:VEVENT
BEGIN:VEVENT
DTSTART;TZID=Europe/London:20251130T080000
DTEND;TZID=Europe/London:20251130T170000
DTSTAMP:20260420T112458
CREATED:20251107T132847Z
LAST-MODIFIED:20251107T132847Z
UID:10002918-1764489600-1764522000@swimnorthwest.org
SUMMARY:SENW Pathway Programme 2025/26 Manchester – Invitation Only
DESCRIPTION:Congratulations on your selection for the Regional Pathway Programme. \nThe Regional Pathway Programme will run from November 2025 to July 2026. \nPlease note that the pathway programme will start at the end of November 2025. \nPlease ensure complete the details below and make payment of £125 by 9am\, Monday 17th November 2025. \nOnce booked please complete the Health Form Here. \nSENW Terms and Conditions \nPlease note places are on a first come first served basis.
URL:https://swimnorthwest.org/event-course/senw-pathway-programme-2025-26-manchester-invitation-only/
LOCATION:Manchester Aquatics Centre\, Manchester Aquatics Centre\, Manchester\, Greater Manchester\, M13 9SS\, United Kingdom
GEO:53.4695414;-2.235493
X-APPLE-STRUCTURED-LOCATION;VALUE=URI;X-ADDRESS=Manchester Aquatics Centre Manchester Aquatics Centre Manchester Greater Manchester M13 9SS United Kingdom;X-APPLE-RADIUS=500;X-TITLE=Manchester Aquatics Centre:geo:-2.235493,53.4695414
END:VEVENT
BEGIN:VEVENT
DTSTART;VALUE=DATE:20251101
DTEND;VALUE=DATE:20251103
DTSTAMP:20260420T112458
CREATED:20250603T073915Z
LAST-MODIFIED:20251031T185404Z
UID:10002863-1761955200-1762127999@swimnorthwest.org
SUMMARY:Swim England North West Winter Championships 2025
DESCRIPTION:Swim England North West is delighted to announce that the SENW Regional Winter Championships will take place on Saturday 1st and Sunday 2nd November 2025 at the Manchester Aquatics Centre (25m). \nKey Dates\n\n\nEntries Open: Monday 8th September 2025 \n\n\nEntries Close: Tuesday 21st October 2025 (11:59pm) \n\n\nAccepted/Rejected Entries Published: Friday 24th October 2025 \n\n\n  \n\n👉 [Merchandise available – click here]👉 [List of Entries – click here]👉 [Purchase Poolside Accreditation for Coaches & Team Managers – click here]👉 [Accepted and Rejected Entries – click here] \nNote: Entries have now closed. \n\n  \nWarm-Up Information\n\nPlease ensure that swimmers stay as close as possible to the lane ropes when moving between lanes during warm-up sessions. It is the responsibility of each club’s coaches and team managers to supervise athletes and ensure their safety. \nSession 1\n\n\nFemale: 8:00 – 8:25am \n\n\nAfter 15 minutes: Lanes 1–2 and 7–8 available for diving and sprints (start end only). \n\n\n\n\nOpen/Male: 8:30 – 8:55am \n\n\nAfter 15 minutes: Lanes 1–2 and 7–8 available for diving and sprints (start end only). \n\n\n\n\nSession Start: 9:00am \n\n\n\nSession 2\n\n\nOpen/Male: 1:00 – 1:25pm \n\n\nAfter 15 minutes: Lanes 1–2 and 7–8 available for diving and sprints (start end only). \n\n\n\n\nFemale: 1:30 – 1:55pm \n\n\nAfter 15 minutes: Lanes 1–2 and 7–8 available for diving and sprints (start end only). \n\n\n\n\nSession Start: 2:00pm \n\n\n\nSession 3\n\n\nOpen/Male: 8:00 – 8:25am \n\n\nAfter 15 minutes: Lanes 1–2 and 7–8 available for diving and sprints (start end only). \n\n\n\n\nFemale: 8:30 – 8:55am \n\n\nAfter 15 minutes: Lanes 1–2 and 7–8 available for diving and sprints (start end only). \n\n\n\n\nSession Start: 9:00am \n\n\n\nSession 4\n\n\nFemale: 1:45 – 2:10pm \n\n\nAfter 15 minutes: Lanes 1–2 and 7–8 available for diving and sprints (start end only). \n\n\n\n\nOpen/Male: 2:15 – 2:40pm \n\n\nAfter 15 minutes: Lanes 1–2 and 7–8 available for diving and sprints (start end only). \n\n\n\n\nSession Start: 2:45pm \n\n\n  \nSpectator Tickets\n\n\nOnline: Standard tickets are required for ages 12+. Under 12s are free. \n£6 per session / £10 per day \nConcession Tickets (65+ yrs) £5 per session / £8 per day \n👉 [Click here] \n\n\nOn the Door: Card payments only \n\n\n  \nEvent Information\n\n\nEntry Pack \n\n\nConditions \n\n\nProgramme of Events \n\n\nConsideration Times \n\n\nPara Swimming Consideration Times \n\nLive results\n\n\n  \n  \n 
URL:https://swimnorthwest.org/event-course/86286/
LOCATION:Manchester Aquatics Centre\, Manchester Aquatics Centre\, Manchester\, Greater Manchester\, M13 9SS\, United Kingdom
CATEGORIES:Regional and National Competitions,Swimming Events
GEO:53.4695414;-2.235493
X-APPLE-STRUCTURED-LOCATION;VALUE=URI;X-ADDRESS=Manchester Aquatics Centre Manchester Aquatics Centre Manchester Greater Manchester M13 9SS United Kingdom;X-APPLE-RADIUS=500;X-TITLE=Manchester Aquatics Centre:geo:-2.235493,53.4695414
END:VEVENT
BEGIN:VEVENT
DTSTART;VALUE=DATE:20250503
DTEND;VALUE=DATE:20250505
DTSTAMP:20260420T112458
CREATED:20240710T102812Z
LAST-MODIFIED:20250730T093404Z
UID:10002717-1746230400-1746403199@swimnorthwest.org
SUMMARY:Swim England North West Summer Championships 2025
DESCRIPTION:Swim England North West are delighted to announce that the 2025 Summer Swimming Championships will be taking place in the following venues. \n  \nManchester Aquatics Centre – 5th & 6th April – complete (results available on the live results link) \nLiverpool Aquatics Centre – 26th 27th April – complete (results available on the live results link) \nManchester Aquatics Centre – 3rd & 4th May \n  \nWarm Up Times  \nSession 9 – 8am / 9am Start  \nOpen/Male Athletes – 8:00-8:25 \nFemale Athletes  -08:30-8:55 \n(Session Break after event 508) \n  \nSession 10 – 2.45pm / 3.30pm Start \nAll Athletes \n  \nSession 11 – 8am / 9am Start \nFemale Athletes – 8:00-8:25 \nOpen Male Athletes  -08:30-8:55 \n(Session Break after Event 608) \n  \nSession 12 – 2.45pm / 3.30pm Start \nAll Athletes \n  \nEnter Championships\nThe Championships can be entered here – Entries now closed for this competition \n  \nChampionship Information\nAccepted Entries and Live results can be found here. \nEvent Conditions  \nEvent Entry Pack  \nSchedule of Events \nEvent Consideration Times 2025 \nPara Consideration Times 2025 \nSENW Regional Championships Additional Information \nSENW Regional Championships FAQ’s \n\nSpectator Tickets\nManchester Aquatics Centre – £10 per day over 12yrs (card only – no cash accepted) \nLiverpool Aquatics Centre – Due to the limited seating available at this venue\, all spectators will be charged £10 per day (no concessions) tickets can be purchased via the following link – CLICK HERE \n  \n \nMerchandise is available to purchase by clicking here \n  \nSENW Summer Regionals - Consideration Times
URL:https://swimnorthwest.org/event-course/swim-england-north-west-summer-championships-2025/
LOCATION:Manchester Aquatics Centre\, Manchester Aquatics Centre\, Manchester\, Greater Manchester\, M13 9SS\, United Kingdom
CATEGORIES:Events,Filter,Para Swimming Events,Regional and National Competitions,Results,swimming,Swimming Events,Swimming Results,Swimwest results,Volunteers
GEO:53.4695414;-2.235493
X-APPLE-STRUCTURED-LOCATION;VALUE=URI;X-ADDRESS=Manchester Aquatics Centre Manchester Aquatics Centre Manchester Greater Manchester M13 9SS United Kingdom;X-APPLE-RADIUS=500;X-TITLE=Manchester Aquatics Centre:geo:-2.235493,53.4695414
END:VEVENT
BEGIN:VEVENT
DTSTART;VALUE=DATE:20250329
DTEND;VALUE=DATE:20250331
DTSTAMP:20260420T112458
CREATED:20240917T114233Z
LAST-MODIFIED:20250329T153045Z
UID:10002743-1743206400-1743379199@swimnorthwest.org
SUMMARY:SENW National Skills and Age Group Qualifier - Diving Competition
DESCRIPTION:Swim England North West Diving Management Group are delighted to confirm that their 2025 SENW National Skills Qualifier Competition will be taking place at: \nManchester Aquatics Centre over 2 days: Saturday 29th March 2025 and Sunday 30th March 2025 \n  \nEntries by event can be found here \nEntry pack for this competition can be found here \nFinal Schedule for the competition can be found here \nCoach/Team Manager poolside accreditation can be purchased here \nMerchandise for this event can be ordered here \n  \nImportant information: \nElectronic Dive Sheets Deadline – 5pm Wednesday 26th March 2025 \nAll Dive sheets must be signed and handed to the recorders desk as per World Aquatics guidelines by 8.30am on the day of the event (1hr prior to start of competition) \nWithdrawals – withdrawals can only be made through the Club’s Head Coach – entry fees are non-refundable \nLate Entries – Fine of £20 per diver will be imposed after the entry deadline \n  \n 
URL:https://swimnorthwest.org/event-course/senw-national-skills-and-age-group-qualifier-diving-competition/
LOCATION:Manchester Aquatics Centre\, Manchester Aquatics Centre\, Manchester\, Greater Manchester\, M13 9SS\, United Kingdom
CATEGORIES:Diving Events,Events,Filter,Regional and National Competitions
ORGANIZER;CN="Swim England North West":MAILTO:swimnorthwest@swimming.org
GEO:53.4695414;-2.235493
X-APPLE-STRUCTURED-LOCATION;VALUE=URI;X-ADDRESS=Manchester Aquatics Centre Manchester Aquatics Centre Manchester Greater Manchester M13 9SS United Kingdom;X-APPLE-RADIUS=500;X-TITLE=Manchester Aquatics Centre:geo:-2.235493,53.4695414
END:VEVENT
BEGIN:VEVENT
DTSTART;VALUE=DATE:20241102
DTEND;VALUE=DATE:20241104
DTSTAMP:20260420T112458
CREATED:20240414T084810Z
LAST-MODIFIED:20241102T100715Z
UID:10002669-1730505600-1730678399@swimnorthwest.org
SUMMARY:Swim England North West Winter Regional Swimming Championships
DESCRIPTION:Swim England North West are delighted to announce that the SENW Regional Winter Championships will take place on the 2nd/3rd November 2024 at Manchester Aquatics Centre (25m). \n  \nEvent Information\nEntry Pack  \nConditions \nProgramme of Events \nConsideration Times \nPara Swimming Consideration Times  \nEntries for this event have now closed \nLink to Accepted Entries and Withdrawals can be found here \nPoolside Accreditation can be purchased here – Click Here \nLive results \nWarm up Times\n  \nSession 1\nFemale 09:00-09:25 \nOpen/Male 09:25-09:50 \n  \nSession 2\nOpen/Male 13:30 – 13:55 \nFemale 13:55-14:20 \n  \nSession 3\nOpen/Male 08:15 – 08:40 \nFemale 08:40 – 09:05 \n  \nSession 4\nFemale 14:00 – 14:25 \nOpen/Male  14:25 – 14:50 \n  \nEntries to Open – Monday 9th September 2024\nEntries to Close – Tuesday 22nd October 2024 (11:59pm)\nAccepted/Rejected Entries Published  – Friday 25th October 2024\nWarm Up Information – Wednesday 30th October 2024 \n  \nMerchandise is now available to purchase by clicking here  \nORDER WINDOW 1 (27th September – 20th October) – Items will be dispatched to your home address to arrive in time for events on the 2nd/3rd November 2024. \nORDER WINDOW 2 (22nd October – 3rd November) – Items will be dispatched to your home address after events have finished.
URL:https://swimnorthwest.org/event-course/swim-england-north-west-winter-regional-swimming-championships/
LOCATION:Manchester Aquatics Centre\, Manchester Aquatics Centre\, Manchester\, Greater Manchester\, M13 9SS\, United Kingdom
CATEGORIES:Regional and National Competitions,Swimming Events
GEO:53.4695414;-2.235493
X-APPLE-STRUCTURED-LOCATION;VALUE=URI;X-ADDRESS=Manchester Aquatics Centre Manchester Aquatics Centre Manchester Greater Manchester M13 9SS United Kingdom;X-APPLE-RADIUS=500;X-TITLE=Manchester Aquatics Centre:geo:-2.235493,53.4695414
END:VEVENT
BEGIN:VEVENT
DTSTART;TZID=Europe/London:20241019T140000
DTEND;TZID=Europe/London:20241019T160000
DTSTAMP:20260420T112458
CREATED:20240902T111328Z
LAST-MODIFIED:20241017T140341Z
UID:10002731-1729346400-1729353600@swimnorthwest.org
SUMMARY:SENW Water Polo U14 Boys Inter Regional Academy - Fully booked
DESCRIPTION:Swim England North West are pleased to announce the training session and selection of the team to represent the North West Region at the U14 Inter-Regional Championships 2024. \n  \nCompetition date 30th November & 1st December 2024 in Walsall. \n(All athletes must be available this weekend). \n  \nPlayers must be registered as Swim England Club Compete (previously Cat 2) in order to attend Regional Academy Training. \n  \nFor players born 2011/2012 \n  \nManchester Aquatics Centre\n19th October 2024\, 14:00 – 16:00 \nSession will consist of \nIntroduction\nWarm Up\nTactical work\nScrimmages \n  \nFor those selected the training dates are:\n02/11/24 1800 – 2000\n09/11/24 1400 – 1600\n16/11/24 1400 – 1600\nParticipants should bring trainers and kit to each session for a land warm up which may be required for some sessions. \n  \nPlease ensure the Health form below is completed by the deadline of  Wednesday 16th October\, \nClick here to access the health form \n  \nClosing Date; 9am\, Wednesday 16th October 2024 \n  \nSENW Terms and Conditions \nPersonal belongings remain the responsibility of the individual and are taken into venues at the individuals own risk. Neither Swim England North West nor the venue will be responsible for the loss of or damage to any such belongings. Individuals are advised to use lockers where available.
URL:https://swimnorthwest.org/event-course/senw-water-polo-u14-boys-inter-regional-academy/
LOCATION:Manchester Aquatics Centre\, Manchester Aquatics Centre\, Manchester\, Greater Manchester\, M13 9SS\, United Kingdom
CATEGORIES:Athlete Training Sessions,Events,Water Polo Events
GEO:53.4695414;-2.235493
X-APPLE-STRUCTURED-LOCATION;VALUE=URI;X-ADDRESS=Manchester Aquatics Centre Manchester Aquatics Centre Manchester Greater Manchester M13 9SS United Kingdom;X-APPLE-RADIUS=500;X-TITLE=Manchester Aquatics Centre:geo:-2.235493,53.4695414
END:VEVENT
END:VCALENDAR