BEGIN:VCALENDAR
VERSION:2.0
PRODID:-//Swim England North West - ECPv6.15.17.1//NONSGML v1.0//EN
CALSCALE:GREGORIAN
METHOD:PUBLISH
X-WR-CALNAME:Swim England North West
X-ORIGINAL-URL:https://swimnorthwest.org
X-WR-CALDESC:Events for Swim England North West
REFRESH-INTERVAL;VALUE=DURATION:PT1H
X-Robots-Tag:noindex
X-PUBLISHED-TTL:PT1H
BEGIN:VTIMEZONE
TZID:Europe/London
BEGIN:DAYLIGHT
TZOFFSETFROM:+0000
TZOFFSETTO:+0100
TZNAME:BST
DTSTART:20240331T010000
END:DAYLIGHT
BEGIN:STANDARD
TZOFFSETFROM:+0100
TZOFFSETTO:+0000
TZNAME:GMT
DTSTART:20241027T010000
END:STANDARD
BEGIN:DAYLIGHT
TZOFFSETFROM:+0000
TZOFFSETTO:+0100
TZNAME:BST
DTSTART:20250330T010000
END:DAYLIGHT
BEGIN:STANDARD
TZOFFSETFROM:+0100
TZOFFSETTO:+0000
TZNAME:GMT
DTSTART:20251026T010000
END:STANDARD
BEGIN:DAYLIGHT
TZOFFSETFROM:+0000
TZOFFSETTO:+0100
TZNAME:BST
DTSTART:20260329T010000
END:DAYLIGHT
BEGIN:STANDARD
TZOFFSETFROM:+0100
TZOFFSETTO:+0000
TZNAME:GMT
DTSTART:20261025T010000
END:STANDARD
END:VTIMEZONE
BEGIN:VEVENT
DTSTART;VALUE=DATE:20250928
DTEND;VALUE=DATE:20250929
DTSTAMP:20260420T112421
CREATED:20250611T141651Z
LAST-MODIFIED:20250611T141651Z
UID:10002869-1759017600-1759103999@swimnorthwest.org
SUMMARY:Swim England Swimming Coach – Workington (Blended Learning)
DESCRIPTION:This course is advertised directly through IOS at their full ‘RRP’ price\, if you are a Swim England member\, you are entitled to a reduced ‘CLUB RATE’ price. \n  \nTo receive the course at the reduced ‘MEMBER/CLUB RATE’ price\, all clubs in the North West Region have been notified of the process for either the club or individual to purchase their space at the reduced cost.  Please therefore contact your club’s secretary  in the first instance\, or CLICK HERE for further information \n  \nClubs wishing to use their SwimMark IOS Credit against this course\, please also contact iosadmin@swimming.org before booking \n  \nTo book your place or find out further information on this course\, please click here
URL:https://swimnorthwest.org/event-course/swim-england-swimming-coach-workington-blended-learning/
LOCATION:Workington Leisure Centre\, Workington Leisure Centre\, Workington\, Cumbria\, CA14 2DX\, United Kingdom
CATEGORIES:Coach Courses,Coaching Certificates,Coaching/Teaching CPDs,Courses,Swimming Courses
GEO:54.6272259;-3.5499894
X-APPLE-STRUCTURED-LOCATION;VALUE=URI;X-ADDRESS=Workington Leisure Centre Workington Leisure Centre Workington Cumbria CA14 2DX United Kingdom;X-APPLE-RADIUS=500;X-TITLE=Workington Leisure Centre:geo:-3.5499894,54.6272259
END:VEVENT
END:VCALENDAR