BEGIN:VCALENDAR
VERSION:2.0
PRODID:-//Swim England North West - ECPv6.15.17.1//NONSGML v1.0//EN
CALSCALE:GREGORIAN
METHOD:PUBLISH
X-ORIGINAL-URL:https://swimnorthwest.org
X-WR-CALDESC:Events for Swim England North West
REFRESH-INTERVAL;VALUE=DURATION:PT1H
X-Robots-Tag:noindex
X-PUBLISHED-TTL:PT1H
BEGIN:VTIMEZONE
TZID:Europe/London
BEGIN:DAYLIGHT
TZOFFSETFROM:+0000
TZOFFSETTO:+0100
TZNAME:BST
DTSTART:20250330T010000
END:DAYLIGHT
BEGIN:STANDARD
TZOFFSETFROM:+0100
TZOFFSETTO:+0000
TZNAME:GMT
DTSTART:20251026T010000
END:STANDARD
BEGIN:DAYLIGHT
TZOFFSETFROM:+0000
TZOFFSETTO:+0100
TZNAME:BST
DTSTART:20260329T010000
END:DAYLIGHT
BEGIN:STANDARD
TZOFFSETFROM:+0100
TZOFFSETTO:+0000
TZNAME:GMT
DTSTART:20261025T010000
END:STANDARD
BEGIN:DAYLIGHT
TZOFFSETFROM:+0000
TZOFFSETTO:+0100
TZNAME:BST
DTSTART:20270328T010000
END:DAYLIGHT
BEGIN:STANDARD
TZOFFSETFROM:+0100
TZOFFSETTO:+0000
TZNAME:GMT
DTSTART:20271031T010000
END:STANDARD
END:VTIMEZONE
BEGIN:VEVENT
DTSTART;VALUE=DATE:20260429
DTEND;VALUE=DATE:20260430
DTSTAMP:20260420T094055
CREATED:20260113T123541Z
LAST-MODIFIED:20260414T124524Z
UID:10002955-1777420800-1777507199@swimnorthwest.org
SUMMARY:Swim England Land Based Coach - Workington
DESCRIPTION:To book your place\, or learn more about the course\, please [click here]\n 
URL:https://swimnorthwest.org/event-course/swim-england-land-based-coach-workington/
LOCATION:Workington Leisure Centre\, Workington Leisure Centre\, Workington\, Cumbria\, CA14 2DX\, United Kingdom
CATEGORIES:Coach Courses,Coaching Certificates,Coaching/Teaching CPDs,Courses,Diving Courses,Masters Courses,Open Water Courses,Para Swimming Courses,Swimming Courses,Synchronised Swimming Courses,Volunteer Courses,Water Polo Courses
GEO:54.6272259;-3.5499894
X-APPLE-STRUCTURED-LOCATION;VALUE=URI;X-ADDRESS=Workington Leisure Centre Workington Leisure Centre Workington Cumbria CA14 2DX United Kingdom;X-APPLE-RADIUS=500;X-TITLE=Workington Leisure Centre:geo:-3.5499894,54.6272259
END:VEVENT
END:VCALENDAR